BEGIN:VCALENDAR
VERSION:2.0
PRODID:-//Running in Cyprus - ECPv6.15.20//NONSGML v1.0//EN
CALSCALE:GREGORIAN
METHOD:PUBLISH
X-WR-CALNAME:Running in Cyprus
X-ORIGINAL-URL:https://www.runningincyprus.com
X-WR-CALDESC:Events for Running in Cyprus
REFRESH-INTERVAL;VALUE=DURATION:PT1H
X-Robots-Tag:noindex
X-PUBLISHED-TTL:PT1H
BEGIN:VTIMEZONE
TZID:Europe/Athens
BEGIN:DAYLIGHT
TZOFFSETFROM:+0200
TZOFFSETTO:+0300
TZNAME:EEST
DTSTART:20250330T010000
END:DAYLIGHT
BEGIN:STANDARD
TZOFFSETFROM:+0300
TZOFFSETTO:+0200
TZNAME:EET
DTSTART:20251026T010000
END:STANDARD
BEGIN:DAYLIGHT
TZOFFSETFROM:+0200
TZOFFSETTO:+0300
TZNAME:EEST
DTSTART:20260329T010000
END:DAYLIGHT
BEGIN:STANDARD
TZOFFSETFROM:+0300
TZOFFSETTO:+0200
TZNAME:EET
DTSTART:20261025T010000
END:STANDARD
BEGIN:DAYLIGHT
TZOFFSETFROM:+0200
TZOFFSETTO:+0300
TZNAME:EEST
DTSTART:20270328T010000
END:DAYLIGHT
BEGIN:STANDARD
TZOFFSETFROM:+0300
TZOFFSETTO:+0200
TZNAME:EET
DTSTART:20271031T010000
END:STANDARD
END:VTIMEZONE
BEGIN:VEVENT
DTSTART;TZID=Europe/Athens:20260612T193000
DTEND;TZID=Europe/Athens:20260612T213000
DTSTAMP:20260424T165546
CREATED:20191216T191416Z
LAST-MODIFIED:20260424T064139Z
UID:19711-1781292600-1781299800@www.runningincyprus.com
SUMMARY:Running Under the Moon
DESCRIPTION:Disclaimer: Running in Cyprus provides this Race Calendar as a service to the running community\, listing various running events across Cyprus. However\, we are not the organizers of all these events. For any inquiries\, please contact the official event organizers directly. Their contact details are provided below.\n\nΤο Running Under The Moon θα διεξαχθεί στις 12 Ιουνίου 2026 στις 19:30 στο Πανεπιστήμιο Κύπρου. Με αγωνίσματα στα 10χλμ και 5χλμ τρέξιμο η περπάτημα ομαδικού εταιρικού δρόμου.\n\n——-\n\nRunning Under The Moon will be held on June 12th\, 2026 at 19:30 at University of Cyprus. With distances of 10km and 5km corporate run or walk.\n\nOrganiser: +357 99693069\n\n————–
URL:https://www.runningincyprus.com/event/running-under-the-moon/
LOCATION:Mall of Cyprus\, Nicosia\, Cyprus
CATEGORIES:10km Road Race,5km,Half-Marathon
ATTACH;FMTTYPE=image/jpeg:https://www.runningincyprus.com/wp-content/uploads/2019/12/65202273_1302243306599874_7783245682617352192_n.jpeg
END:VEVENT
END:VCALENDAR