BEGIN:VCALENDAR
VERSION:2.0
PRODID:-//Running in Cyprus - ECPv6.15.20//NONSGML v1.0//EN
CALSCALE:GREGORIAN
METHOD:PUBLISH
X-ORIGINAL-URL:https://www.runningincyprus.com
X-WR-CALDESC:Events for Running in Cyprus
REFRESH-INTERVAL;VALUE=DURATION:PT1H
X-Robots-Tag:noindex
X-PUBLISHED-TTL:PT1H
BEGIN:VTIMEZONE
TZID:Europe/Athens
BEGIN:DAYLIGHT
TZOFFSETFROM:+0200
TZOFFSETTO:+0300
TZNAME:EEST
DTSTART:20200329T010000
END:DAYLIGHT
BEGIN:STANDARD
TZOFFSETFROM:+0300
TZOFFSETTO:+0200
TZNAME:EET
DTSTART:20201025T010000
END:STANDARD
BEGIN:DAYLIGHT
TZOFFSETFROM:+0200
TZOFFSETTO:+0300
TZNAME:EEST
DTSTART:20210328T010000
END:DAYLIGHT
BEGIN:STANDARD
TZOFFSETFROM:+0300
TZOFFSETTO:+0200
TZNAME:EET
DTSTART:20211031T010000
END:STANDARD
BEGIN:DAYLIGHT
TZOFFSETFROM:+0200
TZOFFSETTO:+0300
TZNAME:EEST
DTSTART:20220327T010000
END:DAYLIGHT
BEGIN:STANDARD
TZOFFSETFROM:+0300
TZOFFSETTO:+0200
TZNAME:EET
DTSTART:20221030T010000
END:STANDARD
BEGIN:DAYLIGHT
TZOFFSETFROM:+0200
TZOFFSETTO:+0300
TZNAME:EEST
DTSTART:20230326T010000
END:DAYLIGHT
BEGIN:STANDARD
TZOFFSETFROM:+0300
TZOFFSETTO:+0200
TZNAME:EET
DTSTART:20231029T010000
END:STANDARD
BEGIN:DAYLIGHT
TZOFFSETFROM:+0200
TZOFFSETTO:+0300
TZNAME:EEST
DTSTART:20240331T010000
END:DAYLIGHT
BEGIN:STANDARD
TZOFFSETFROM:+0300
TZOFFSETTO:+0200
TZNAME:EET
DTSTART:20241027T010000
END:STANDARD
BEGIN:DAYLIGHT
TZOFFSETFROM:+0200
TZOFFSETTO:+0300
TZNAME:EEST
DTSTART:20250330T010000
END:DAYLIGHT
BEGIN:STANDARD
TZOFFSETFROM:+0300
TZOFFSETTO:+0200
TZNAME:EET
DTSTART:20251026T010000
END:STANDARD
BEGIN:DAYLIGHT
TZOFFSETFROM:+0200
TZOFFSETTO:+0300
TZNAME:EEST
DTSTART:20260329T010000
END:DAYLIGHT
BEGIN:STANDARD
TZOFFSETFROM:+0300
TZOFFSETTO:+0200
TZNAME:EET
DTSTART:20261025T010000
END:STANDARD
BEGIN:DAYLIGHT
TZOFFSETFROM:+0200
TZOFFSETTO:+0300
TZNAME:EEST
DTSTART:20270328T010000
END:DAYLIGHT
BEGIN:STANDARD
TZOFFSETFROM:+0300
TZOFFSETTO:+0200
TZNAME:EET
DTSTART:20271031T010000
END:STANDARD
END:VTIMEZONE
BEGIN:VEVENT
DTSTART;TZID=Europe/Athens:20260419T073000
DTEND;TZID=Europe/Athens:20260419T113000
DTSTAMP:20260424T185022
CREATED:20241207T094834Z
LAST-MODIFIED:20250904T152604Z
UID:22501-1776583800-1776598200@www.runningincyprus.com
SUMMARY:Aphrodite Half-Marathon\, 10km & 5km
DESCRIPTION:Aphrodite Half-Marathon\, 10km race\, 5km run & 1km Kids’ Race\n\n\n\n\n\n\n\nDate: Sunday\, 19th of April 2026 \nStart/Finish Point: Polis Chrysochous Municipality\, Paphos \nJoin Running in Cyprus and the Polis Chrysochous Municipality for an unforgettable run at the most picturesque Half-Marathon course in Cyprus. \nSet against the stunning backdrop of the Akamas Peninsula\, the Aphrodite Half Marathon offers breathtaking views of the Mediterranean coastline. It’s a perfect challenge for seasoned athletes and a beautiful experience for new runners or walkers. \nChoose Your Challenge: \n\nHalf Marathon (21.1km)\n10km Road Race\n5km Road Race\nKids’ Fun Run\n\nThe most beautiful courses in Cyprus. \nCOURSES\nAll 21km\, 10km\, and 5km runners receive: \n\nOfficial Technical T-shirt\nUnique Finisher’s Medal\nElectronic Chip Timing\nFull on-course support\n\nREGISTER
URL:https://www.runningincyprus.com/event/aphrodite-half-marathon/
LOCATION:Polis Chrysochous\, Pafos\, Cyprus
CATEGORIES:10km Road Race,5km,Half-Marathon
ATTACH;FMTTYPE=image/png:https://www.runningincyprus.com/wp-content/uploads/2024/12/aphrodite-run-running.png
END:VEVENT
BEGIN:VEVENT
DTSTART;TZID=Europe/Athens:20260329T070000
DTEND;TZID=Europe/Athens:20260329T113000
DTSTAMP:20260424T185022
CREATED:20220222T122703Z
LAST-MODIFIED:20260112T174009Z
UID:21137-1774767600-1774783800@www.runningincyprus.com
SUMMARY:Run For Autism Half-Marathon
DESCRIPTION:Disclaimer: Running in Cyprus provides this Race Calendar as a service to the running community\, listing various running events across Cyprus. However\, we are not the organizers of all these events. For any inquiries\, please contact the official event organizers directly. Their contact details are provided below. \nRun For Autism Half-Marathon\nΚυριακή\, 29 Μαρτίου 2026. \nΣημείο εκκίνησης: Χώρος στάθμευσης του Nissi Bay Beach Bar με κατεύθυνση την Αγία Θέκλα και επιστροφή. \n\n\n\nThe 5th consecutive Run for Autism in Ayia Napa is coming\, with the new add-ons! Stay tuned! \n\n\n\n\n\nStarting point: parking of Nissi Bay Beach bar towards Ayia Thekla and back. \n\nREGISTER\n\nOrganisers: 99 033378 – runforautism.famagustateam@gmail.com\n\n\n—————————————-
URL:https://www.runningincyprus.com/event/run-for-autism/
LOCATION:Ayia Napa\, Famagusta\, Cyprus
CATEGORIES:10km Road Race,5km,Half-Marathon
ATTACH;FMTTYPE=image/jpeg:https://www.runningincyprus.com/wp-content/uploads/2022/02/run-for-autism.jpg
END:VEVENT
BEGIN:VEVENT
DTSTART;TZID=Europe/Athens:20260322T070000
DTEND;TZID=Europe/Athens:20260322T130000
DTSTAMP:20260424T185022
CREATED:20240215T160931Z
LAST-MODIFIED:20260323T080200Z
UID:22210-1774162800-1774184400@www.runningincyprus.com
SUMMARY:XM Limassol Marathon
DESCRIPTION:Disclaimer: Running in Cyprus provides this Race Calendar as a service to the running community\, listing various running events across Cyprus. However\, we are not the organizers of all these events. For any inquiries\, please contact the official event organizers directly. Their contact details are provided below.\nThe XM Limassol Marathon is set in the vibrant city of Limassol\, Cyprus\, and offers runners a course along the Mediterranean coastline. \nParticipants can choose from: \n\nFull Marathon\nHalf-Marathon\n10km Race\n5km Race\n\nREGISTER\nOrganisers:  7005 0123
URL:https://www.runningincyprus.com/event/xm-limassol-marathon/
LOCATION:Molos\, Limassol\, Cyprus
CATEGORIES:10km Road Race,5km,Half-Marathon,Marathon
ATTACH;FMTTYPE=image/png:https://www.runningincyprus.com/wp-content/uploads/2024/02/ba53b1f3-7cd3-4009-982b-5b77fdcea173.png
END:VEVENT
BEGIN:VEVENT
DTSTART;TZID=Europe/Athens:20260308T070000
DTEND;TZID=Europe/Athens:20260308T123000
DTSTAMP:20260424T185022
CREATED:20211029T125420Z
LAST-MODIFIED:20251117T081842Z
UID:21020-1772953200-1772973000@www.runningincyprus.com
SUMMARY:TUI Cyprus Marathon
DESCRIPTION:The TUI Cyprus Marathon\, established in 1999\, stands as the island’s most historic marathon\, renowned for its exceptional organization and welcoming atmosphere. Set in the picturesque city of Paphos\, participants are treated to stunning views along the course. Runners receive an all-inclusive package\, including a complimentary technical t-shirt\, a distinctive finisher’s medal\, energy gels\, bananas\, sports drinks\, and water throughout the race. The celebration continues at the finish line with fruits\, sports drinks\, complimentary massages\, water\, and even free beer! \nTUI Cyprus Marathon\nEmbark on a breathtaking journey starting at the mythic Aphrodite’s Birthplace\, and running along the Mediterranean Sea. This route takes you through Paphos’ villages\, with fluid stations every 2.5kms. Certified by AIMS\, the course is meticulously marked for every kilometer\, ensuring a seamless experience. \nHalf-Marathon\nChallenge yourself on a flat and fast course that never strays away from the sea\, perfect for setting new personal records. The TUI Cyprus Half-Marathon is one of the most popular events and it features six fluid stations to maintain your peak performance. Amidst the lush palm trees\, soak in the enthusiastic support from spectators\, motivating you to finish strong. \n10km Road Race\nJoin one of the event’s favored distances on a flat course that runs along the scenic Poseidonos Avenue\, just a few steps from the sea. Surrounded by palm trees and lively supporters\, this race promises a fast pace and the vibrant atmosphere of Paphos. \n5km Sunset Run\nRunning next to the Archaeological Park of Pafos and right next to the Mediterranean Sea is exactly the perfect scenery to enjoy a beautiful sunset on Saturday afternoon! Perfect for a team building activity and for competition between friends and colleagues. \nDon’t miss out on the electrifying atmosphere and supportive crowds at Cyprus’ premier event. \nFor further details\, visit: http://www.CyprusMarathon.com \nREGISTER
URL:https://www.runningincyprus.com/event/cyprus-marathon/
LOCATION:Paphos Medieval Fort Square\, Paphos\, Cyprus
CATEGORIES:10km Road Race,5km,Half-Marathon,Marathon
ATTACH;FMTTYPE=image/png:https://www.runningincyprus.com/wp-content/uploads/2021/10/leaflet1.png
END:VEVENT
BEGIN:VEVENT
DTSTART;TZID=Europe/Athens:20260215T083000
DTEND;TZID=Europe/Athens:20260215T113000
DTSTAMP:20260424T185022
CREATED:20230115T080406Z
LAST-MODIFIED:20251205T092649Z
UID:21621-1771144200-1771155000@www.runningincyprus.com
SUMMARY:Cyprus Grand Prix - Strovolos
DESCRIPTION:Disclaimer: Running in Cyprus provides this Race Calendar as a service to the running community\, listing various running events across Cyprus. However\, we are not the organizers of all these events. For any inquiries\, please contact the official event organizers directly. Their contact details are provided below. \n«Cyprus Road Races Grand Prix»\n15th of February at Strovolos Municipality Hall in Strovolos \n\nHalf Marathon – 08:00 | Registration fee: €30\n10KM – 10:00 | Registration fee: €23\n5KM – 10:05 | Registration fee: €20\n5KM CORPORATE – 10:05 | Registration fee: €20\n1KM Family Fun Run (whole family\, participation of children up to 6 years old) – 11:30 | Registration fee per adult: €10\n1KM Kids Race (6-12 years old) – 11:30 | Registration fee: €5\n\nREGISTER\nParticipants in the 10KM and 5KM will receive a jersey\, BIB number with timing chip and a medal.\nParticipants in the 1KM Family Fun Run will receive a t-shirt\, a BIB without a timing chip and a medal.\nChildren from 8-14 years only BIB with timing chip and children’s medal. \nContact the Organiser: https://cyprusroadracesgp.org.cy/contact/  \n \n 
URL:https://www.runningincyprus.com/event/cyprus-grand-prix-strovolos/
CATEGORIES:10km Road Race,1km,5km,Half-Marathon
ATTACH;FMTTYPE=image/png:https://www.runningincyprus.com/wp-content/uploads/2023/01/grand-prix-strovolos.png
END:VEVENT
BEGIN:VEVENT
DTSTART;TZID=Europe/Athens:20260208T080000
DTEND;TZID=Europe/Athens:20260208T120000
DTSTAMP:20260424T185022
CREATED:20211026T170516Z
LAST-MODIFIED:20250627T082519Z
UID:21015-1770537600-1770552000@www.runningincyprus.com
SUMMARY:Mitsero Mine Run
DESCRIPTION:Disclaimer: Running in Cyprus provides this Race Calendar as a service to the running community\, listing various running events across Cyprus. However\, we are not the organizers of all these events. For any inquiries\, please contact the official event organizers directly. Their contact details are provided below. \nRaces:\n21km – Start: 08:30\n12km – Start: 08:45\n5.6km – Start: 9:00\n21km Route: https://plotaroute.com/route/1989099\n12km Route: https://www.plotaroute.com/route/1989088\n5.6km Route: https://www.plotaroute.com/route/1989079\nREGISTER\nOrganiser: 99 693069 \n\n\n 
URL:https://www.runningincyprus.com/event/mitsero-run/
LOCATION:Mitsero Village\, Nicosia\, Cyprus
CATEGORIES:10km Road Race,5km,Half-Marathon
ATTACH;FMTTYPE=image/jpeg:https://www.runningincyprus.com/wp-content/uploads/2021/10/bE88NI_mitsero-mine-run.jpeg
END:VEVENT
BEGIN:VEVENT
DTSTART;TZID=Europe/Athens:20260125T073000
DTEND;TZID=Europe/Athens:20260125T123000
DTSTAMP:20260424T185022
CREATED:20200303T100325Z
LAST-MODIFIED:20250514T135229Z
UID:20157-1769326200-1769344200@www.runningincyprus.com
SUMMARY:Pervolia Marathon
DESCRIPTION:Disclaimer: Running in Cyprus provides this Race Calendar as a service to the running community\, listing various running events across Cyprus. However\, we are not the organizers of all these events. For any inquiries\, please contact the official event organizers directly. Their contact details are provided below. \nMarathon – Half Marathon  – 10km – 5km – 1km/600m\nSunday – 25th January 2026\nStart and finish at Ayias Eirinis Church\nStart times: \n• 42km – 07:30\n• 21km – 08:00\n• 10km – 08:05\n• 5km – 08:10\n• 1km/600m – 09:30 / 09:35\nTrophies for first 3 winners in all categories\nCollect BIB number just before the race at Pervolia square.\n\nInformation: 99 411411 – 99 528602\n\nREGISTER
URL:https://www.runningincyprus.com/event/pervolia-marathon/
LOCATION:Pervolia\, Larnaca\, Cyprus
CATEGORIES:Half-Marathon,Marathon
ATTACH;FMTTYPE=image/jpeg:https://www.runningincyprus.com/wp-content/uploads/2015/07/12621981_10154097350900934_1296521079350136761_o.jpg
END:VEVENT
BEGIN:VEVENT
DTSTART;TZID=Europe/Athens:20260118T070000
DTEND;TZID=Europe/Athens:20260118T130000
DTSTAMP:20260424T185022
CREATED:20220713T065950Z
LAST-MODIFIED:20251016T113224Z
UID:21309-1768719600-1768741200@www.runningincyprus.com
SUMMARY:Nicosia Marathon
DESCRIPTION:Disclaimer: Running in Cyprus provides this Race Calendar as a service to the running community\, listing various running events across Cyprus. However\, we are not the organizers of all these events. For any inquiries\, please contact the official event organizers directly. Their contact details are provided below. \n\n«Nicosia Marathon» στις 08-12-24\n\nMarathon\, HalfMarathon\, “Stelios Kyriakides 7.7 miles”\, 5K Run and the Quantum sMile Run.\n\nREGISTER
URL:https://www.runningincyprus.com/event/nicosia-marathon/
LOCATION:Nicosia Municipal Theater\, Nicosia\, Cyprus
CATEGORIES:10km Road Race,5km,Half-Marathon,Marathon
ATTACH;FMTTYPE=image/jpeg:https://www.runningincyprus.com/wp-content/uploads/2022/07/SAKI6659.jpeg
END:VEVENT
BEGIN:VEVENT
DTSTART;TZID=Europe/Athens:20251116T080000
DTEND;TZID=Europe/Athens:20251116T170000
DTSTAMP:20260424T185022
CREATED:20211026T170944Z
LAST-MODIFIED:20250326T083945Z
UID:21018-1763280000-1763312400@www.runningincyprus.com
SUMMARY:Larnaka Marathon
DESCRIPTION:Disclaimer: Running in Cyprus provides this Race Calendar as a service to the running community\, listing various running events across Cyprus. However\, we are not the organizers of all these events. For any inquiries\, please contact the official event organizers directly. Their contact details are provided below. \nThe “Radisson Blu Larnaka International Marathon” will take place on Sunday\, 17th of November 2024. \nStart/Finish Point: Finikoudes Area \nRaces: \n\nMarathon 42 Κm\nHalf-Marathon 21Κm\n10 Km\n5 Km\nMcDonald’s™ Kids Race 1km\n\nREGISTER\nOrganisers:\nTel: +357 25 010 583 \n 
URL:https://www.runningincyprus.com/event/larnaka-marathon/
LOCATION:Finikoudes\, Larnaka\, Cyprus
CATEGORIES:10km Road Race,1km,5km,Half-Marathon,Marathon
ATTACH;FMTTYPE=image/jpeg:https://www.runningincyprus.com/wp-content/uploads/2020/05/larnaca-marathon.jpg
END:VEVENT
BEGIN:VEVENT
DTSTART;TZID=Europe/Athens:20251019T073000
DTEND;TZID=Europe/Athens:20251019T123000
DTSTAMP:20260424T185022
CREATED:20220920T072202Z
LAST-MODIFIED:20251017T073127Z
UID:21371-1760859000-1760877000@www.runningincyprus.com
SUMMARY:Run as One
DESCRIPTION:Disclaimer: Running in Cyprus provides this Race Calendar as a service to the running community\, listing various running events across Cyprus. However\, we are not the organizers of all these events. For any inquiries\, please contact the official event organizers directly. Their contact details are provided below. \n\nΗ φετινή διοργάνωση περιλαμβάνει για άλλη μια χρονιά Ημιμαραθώνιο Δρόμο 21χλμ\, Εταιρικό Δρόμο 5χλμ\, Ατομικό Δρόμο 5χλμ και Δρόμο 1χλμ για παιδιά\, αλλά και μεγάλους.\n– Ημιμαραθώνιος: €20\n– Ατομικός Δρόμος 10χλμ & 5χλμ: €12\n– Εταιρικός Δρόμος 5χλμ: €200 / εταιρεία (μέχρι 20 άτομα*)\n* Για συμμετοχές πέραν των 20 ατόμων\, το κόστος ανά επιπλέον άτομο ανέρχεται στα €5.\n– 1Κ Fun Run: €12 (Παιδιά μέχρι 12 ετών συμμετέχουν δωρεάν). \nΚυρ\, 19/10/2025 07:30\nALPHAMEGA RUN AS ONE 2025 – ΗΜΙΜΑΡΑΘΩΝΙΟΣ 21Κ \nΚυρ\, 19/10/2025 08:30\nALPHAMEGA RUN AS ONE 2025 – ΑΤΟΜΙΚΟΣ ΔΡΟΜΟΣ 10Κ \nΚυρ\, 19/10/2025 11:15\nALPHAMEGA RUN AS ONE 2025 – ΑΤΟΜΙΚΟΣ ΔΡΟΜΟΣ 5Κ \nΚυρ\, 19/10/2025 11:15\nALPHAMEGA RUN AS ONE 2025 – ΕΤΑΙΡIΚΟΣ ΔΡΟΜΟΣ 5Κ \nΚυρ\, 19/10/2025 12:15\nALPHAMEGA RUN AS ONE 2025 – 1K FUN RUN \nREGISTER\n  \n\n\n 
URL:https://www.runningincyprus.com/event/alphamega-run-as-one/
LOCATION:Alpha Mega\, Nicosia\, Cyprus
CATEGORIES:5km,Half-Marathon
ATTACH;FMTTYPE=image/png:https://www.runningincyprus.com/wp-content/uploads/2022/09/542099622_1286506646821284_727435145668530925_n-e1757075725119.png
END:VEVENT
BEGIN:VEVENT
DTSTART;TZID=Europe/Athens:20251019T070000
DTEND;TZID=Europe/Athens:20251019T143000
DTSTAMP:20260424T185022
CREATED:20221025T133905Z
LAST-MODIFIED:20250901T075234Z
UID:21437-1760857200-1760884200@www.runningincyprus.com
SUMMARY:O3 OlympusMan Trail Run
DESCRIPTION:Disclaimer: Running in Cyprus provides this Race Calendar as a service to the running community\, listing various running events across Cyprus. However\, we are not the organizers of all these events. For any inquiries\, please contact the official event organizers directly. Their contact details are provided below. \n  \n\nThe O³lympusMan Classic is taking place on the mythical trails around the Peak of Olympus in Troodos Mountains! It’s a fast trail run race for experienced trail runners and a challenging one for those who are about to enter the trail run world.\n\nThis year\, OlympusMan Trail Run Series introduces two more races\, the O³lympusMan Ultra and the O³lympusMan Marathon + for the more experienced and hardcore trail runners out there!\n\nAll races reach the top of the island\, the Olympus peak. Before the light is gone you will be on the top of the mountain. Then you are an OlympusMan!\n\n\n\n\n\n\n\n\n\nO³lympusMan Ultra (72km | +2530m elevation): €70 \nO³lympusMan Marathon+ (47km | +1510m elevation): €50 \nO³lympusMan Classic (21km | +460m elevation): €30 \n\n\nThe entry fee includes: \n\nBib numbers\nEnergy bars/gels\nRoute signage and safety\nMedical assistance during the race\nFirst aid and safety personnel\nFeed stations\nSoup at the finish line\nShower and change rooms after the finish\nFinisher’s medal\nand your OlympusMan goody bag with commemorative gifts\n\n\n\n\n\n\nREGISTER\n  \nOrganisers: +357 97702200 \n 
URL:https://www.runningincyprus.com/event/o3-olympusman-trail-run/
LOCATION:Troodos\, Cyprus
CATEGORIES:Half-Marathon,Marathon,Trail
ATTACH;FMTTYPE=image/png:https://www.runningincyprus.com/wp-content/uploads/2022/10/449195570_999404792189717_2918062944453059725_n.png
END:VEVENT
BEGIN:VEVENT
DTSTART;TZID=Europe/Athens:20250720T153000
DTEND;TZID=Europe/Athens:20250720T190000
DTSTAMP:20260424T185022
CREATED:20250616T084146Z
LAST-MODIFIED:20250710T071004Z
UID:22714-1753025400-1753038000@www.runningincyprus.com
SUMMARY:1ο Αντικατοχικός Μαραθώνιος
DESCRIPTION:Disclaimer: Running in Cyprus provides this Race Calendar as a service to the running community\, listing various running events across Cyprus. However\, we are not the organizers of all these events. For any inquiries\, please contact the official event organizers directly. Their contact details are provided below. \n1ο Αντικατοχικός Μαραθώνιος\nΡυθμός διαδρομής αυστηρά 06:30/χμ και όλοι οι διαγωνιζόμενοι να βρίσκονται στο σημείο εκκίνησης 1 ώρα πριν για να παραλάβουν την εγγραφή – φανέλα τους. \n\nΜαραθώνιος 42\,195\nΏρα εκκίνησης: 15:30\nΧάρτης διαδρομής:\n\n\nhttps://www.strava.com/routes/3364278802378513920\n\n\n\nΗμιμαραθώνιος 21\,097\nΏρα εκκίνησης: 17:45\nΧάρτης διαδρομής:\n\n\nhttps://www.strava.com/routes/3364283014936881204\n\n\n\n11 Χιλιόμετρα\nΏρα εκκίνησης: 18:55\nΧάρτης διαδρομής:\n\n\nhttps://www.strava.com/routes/3364288442780930560\n\n\n\n5\,5 Χιλιόμετρα\nΏρα εκκίνησης: 19:30\nΧάρτης διαδρομής:\n\n\nhttps://www.strava.com/routes/3364289081268053504\n\n\n\n\nREGISTER\n\n\nOrganisers: \n\n\n\nmacherunners@gmail.com\n\n\n\n\n\n———————————————-
URL:https://www.runningincyprus.com/event/antikatoxikos-marathonios/
LOCATION:Machairas\, Cyprus
CATEGORIES:Half-Marathon,Marathon
ATTACH;FMTTYPE=image/png:https://www.runningincyprus.com/wp-content/uploads/2025/06/Screenshot-2025-06-16-at-11.38.29 AM.png
END:VEVENT
BEGIN:VEVENT
DTSTART;TZID=Europe/Athens:20250514T200000
DTEND;TZID=Europe/Athens:20250514T220000
DTSTAMP:20260424T185022
CREATED:20240313T075743Z
LAST-MODIFIED:20250222T072643Z
UID:22235-1747252800-1747260000@www.runningincyprus.com
SUMMARY:Starry Strides Nicosia
DESCRIPTION:Disclaimer: Running in Cyprus provides this Race Calendar as a service to the running community\, listing various running events across Cyprus. However\, we are not the organizers of all these events. For any inquiries\, please contact the official event organizers directly. Their contact details are provided below. \nStarry Strides Nicosia\nOn Wednesday\, May 14\, 2025\, at 20:00\, under the light of the Flower Moon. \nIt is a race for everyone\, with routes of 6.25 km\, 12.5 km\, and Half-Marathon respectively\, designed to cater to all tastes and needs; for demanding runners and beginners\, walkers\, families with strollers and dogs\, corporate teams\, and groups. With a new\, more exciting route and starting point in the heart of Nicosia’s historic center\, at Town Hall Square (between the Nicosia Town Hall and the CYENS Research Centre of Excellence)\, the runners will line up to start on the night of May 14\, 2025. \n\nStarry Stroll – 6.25 km – €20.00\nStarry Strides – 12.5km – €25.00\nStarry Half Marathon – 21.2km – €30.00\n\nThe route\, starting from Town Hall Square\, will pass by Hamam Omeriye\, through the narrow streets next to the Girls’ School and the Panagia Faneromeni Church\, then along the pedestrian streets of Onasagorou and Ledra\, by the Venetian walls\, crossing the Paphos Gate tunnel\, and the colorful lights and fountains of Eleftheria Square and for the very first time Makarios Avenue. Enjoy the street musicians and bands at the start and finish points. \nREGISTER\n 
URL:https://www.runningincyprus.com/event/starry-strides-nicosia/
LOCATION:Plateia Eleftherias\, Nicosia\, Cyprus
CATEGORIES:Half-Marathon
ATTACH;FMTTYPE=image/png:https://www.runningincyprus.com/wp-content/uploads/2024/03/STaRRYSTRIDES-FINAL-LOGO-e1740155487696.png
END:VEVENT
BEGIN:VEVENT
DTSTART;TZID=Europe/Athens:20241222T070000
DTEND;TZID=Europe/Athens:20241222T123000
DTSTAMP:20260424T185022
CREATED:20200711T071947Z
LAST-MODIFIED:20241002T154115Z
UID:20615-1734850800-1734870600@www.runningincyprus.com
SUMMARY:Ayia Napa Half Marathon
DESCRIPTION:A running event that gives runners from Cyprus and abroad the opportunity to end their running year in perfect conditions. The course is challenging for the Half Marathon taking athletes through the main streets of the town and out to the most iconic Cape Greco Natural Park\, while it remains fast and mostly flat for the 10k and 5k course. Opening the Christmas season of the Municipality of Ayia Napa\, the Fun Run offers people the opportunity to run or walk in festive costumes and contribute to charity which is the main cause of this part of the event. Finishers will have the opportunity to experience the lighting up of the central square Christmas tree and the party around it in the finish area. \nEvents: \n\nHalf Marathon\n10Km Road Race\n5Km Road Race\n\nAll Finishers in the Marathon\, Half Marathon 10Km Road Race and 5Km Road Race will receive a Finishers Medal. \nAll Finishers in the Marathon and Half Marathon will receive a free Finisher’s T-Shirt. \nREGISTER
URL:https://www.runningincyprus.com/event/ayia-napa-half-marathon/
LOCATION:Ayia Napa Harbour\, Ayia Napa\, Cyprus
CATEGORIES:10km Road Race,5km,Half-Marathon
ATTACH;FMTTYPE=image/jpeg:https://www.runningincyprus.com/wp-content/uploads/2020/07/DSC_0944-scaled.jpg
END:VEVENT
BEGIN:VEVENT
DTSTART;TZID=Europe/Athens:20211205T073000
DTEND;TZID=Europe/Athens:20211205T133000
DTSTAMP:20260424T185022
CREATED:20160927T090131Z
LAST-MODIFIED:20210120T102050Z
UID:7931-1638689400-1638711000@www.runningincyprus.com
SUMMARY:23rd Logicom Cyprus Marathon
DESCRIPTION:The Logicom Cyprus Marathon is the oldest and most historic marathon on the island\, organised since 1999.  It is now recognised as the best organised and friendliest running event on the island.\nThe host city of the Logicom Cyprus Marathon was also the European Capital of Culture 2017 and you will not only experience breath-taking views throughout the course but also receive free technical t-shirt\, a fantastic medal for all finishers\, HIGH5 goodies (energy gels & isogels in the course)\, bananas\, sports drinks and water throughout the course\, as well as fruit\, sports drinks\, free massage\, water and free beer at the finish line!!\nMarathon\nThe main distance of the event which features breath-taking scenery from Start to Finish. Starting at Aphrodite’s Birthplace\, the course follows a coastal route along the Mediterranean sea. Throughout the course you will discover the small and traditional villages of Pafos and enjoy the famous Mediterranean hospitality with fluid stations every 3km and cheering support in most of the course. The course is accredited by AIMS (Association of International Marathons and Distance Races) and is clearly marked at every kilometre.\nHalf-Marathon\nThe distance to test yourself and beat your Personal Best. An almost flat\, fast course along the Mediterranean will provide you with the opportunity for fast and fun times! This is the most popular distance around the world and at the Logicom Cyprus Half-Marathon it includes 6 fluid stations to keep you fresh! Do not forget to enjoy the palm trees and the cheerings from the spectators!\n10km Road Race\nOne of the most popular distances of the event\, which consists of a flat route alongside the picturesque Poseidonos Avenue just a few meters from the beach. Full of palm trees and cheerful spectators\, choose this race for a quick pace and to enjoy the buzz of the Pafos city!\n5km Fun Run\nRunning next to the Archaeological Park of Pafos and right next to the Mediterranean sea is exactly the perfect scenery to enjoy a Sunday morning run! Perfect for a team building activity and for competition between friends and colleagues.\n\nDon’t miss your chance to experience the festive atmosphere and the cheering crowds along this fantastic race. For more info: http://www.LogicomCyprusMarathon.com
URL:https://www.runningincyprus.com/event/logicom-cyprus-marathon/
LOCATION:Paphos Medieval Fort Square\, Paphos\, Cyprus
CATEGORIES:10km Road Race,5km,Half-Marathon,Marathon
ATTACH;FMTTYPE=image/jpeg:https://www.runningincyprus.com/wp-content/uploads/2016/09/IMG_0491.jpg
END:VEVENT
BEGIN:VEVENT
DTSTART;TZID=Europe/Athens:20210711T050000
DTEND;TZID=Europe/Athens:20210711T130000
DTSTAMP:20260424T185022
CREATED:20200215T080816Z
LAST-MODIFIED:20210521T093702Z
UID:19994-1625979600-1626008400@www.runningincyprus.com
SUMMARY:Midsummer Madness
DESCRIPTION:OFF-ROAD COASTAL MARATHON\, HALF-MARATHON\, 5 KILOMETRES\n\nWHEN: July 11\, 2021 \nVENUE: All races will start and finish at Enalia restaurant in the Journalists’ Village holiday complex\, Pervolia https://www.facebook.com/enalia1993/ \nSTART TIMES: 5am for the marathon\, 7am for the half-marathon\, 7.30am for the 5k. \n​Registration for all races will take place at Enalia Restaurant in Pervolia. See map on their FB page: https://www.facebook.com/enalia1993/ \nRegistration times are as follows: \nSaturday\, July 10th \nAll races — 6pm to 8pm \nSunday\, 11th\nMarathon — from 4am (race starts at 5am)\nHalf-marathon — from 6am (race starts at 7am)\n5k race — from 7.00am (race starts at 8 am)
URL:https://www.runningincyprus.com/event/midsummer-madness/
LOCATION:Pervolia\, Larnaca\, Cyprus
CATEGORIES:Half-Marathon,Marathon,Trail
ATTACH;FMTTYPE=image/png:https://www.runningincyprus.com/wp-content/uploads/2020/02/Screenshot-2020-02-15-at-10.05.31-AM.png
END:VEVENT
BEGIN:VEVENT
DTSTART;TZID=Europe/Athens:20210117T080000
DTEND;TZID=Europe/Athens:20210117T113000
DTSTAMP:20260424T185022
CREATED:20191028T171530Z
LAST-MODIFIED:20200428T070442Z
UID:19153-1610870400-1610883000@www.runningincyprus.com
SUMMARY:Nicosia Half Marathon
DESCRIPTION:Η Half Marathon Nicosia ανακοίνωσε ότι στις 17 Ιανουαρίου 2021 θα διεξαχθεί στη Λευκωσία\, ανοικτός Hμιμαραθώνιος αγώνας επί δημόσιας οδού. \nΠαράλληλα θα διεξαχθεί  αγώνας 5 χιλιομέτρων\, ατομικός και εταιρικός. \nΗ εκκίνηση και o τερματισμός θα είναι στην οδό Στασίνου από την είσοδο του πάρκου Αγίου Αντωνίου (παρά την τάφρο Κωστάντζα). \n  \n 
URL:https://www.runningincyprus.com/event/nicosia-half-marathon/
LOCATION:Nicosia\, Nicosia\, Cyprus
CATEGORIES:5km,Half-Marathon
ATTACH;FMTTYPE=image/png:https://www.runningincyprus.com/wp-content/uploads/2019/10/nicosia-half-marathon.png
END:VEVENT
END:VCALENDAR